BEGIN:VCALENDAR
VERSION:2.0
PRODID:-//Lancaster Tennis Club - ECPv6.15.20//NONSGML v1.0//EN
CALSCALE:GREGORIAN
METHOD:PUBLISH
X-WR-CALNAME:Lancaster Tennis Club
X-ORIGINAL-URL:https://lancastertennis.co.uk
X-WR-CALDESC:Events for Lancaster Tennis Club
REFRESH-INTERVAL;VALUE=DURATION:PT1H
X-Robots-Tag:noindex
X-PUBLISHED-TTL:PT1H
BEGIN:VTIMEZONE
TZID:Europe/London
BEGIN:DAYLIGHT
TZOFFSETFROM:+0000
TZOFFSETTO:+0100
TZNAME:BST
DTSTART:20250330T010000
END:DAYLIGHT
BEGIN:STANDARD
TZOFFSETFROM:+0100
TZOFFSETTO:+0000
TZNAME:GMT
DTSTART:20251026T010000
END:STANDARD
BEGIN:DAYLIGHT
TZOFFSETFROM:+0000
TZOFFSETTO:+0100
TZNAME:BST
DTSTART:20260329T010000
END:DAYLIGHT
BEGIN:STANDARD
TZOFFSETFROM:+0100
TZOFFSETTO:+0000
TZNAME:GMT
DTSTART:20261025T010000
END:STANDARD
BEGIN:DAYLIGHT
TZOFFSETFROM:+0000
TZOFFSETTO:+0100
TZNAME:BST
DTSTART:20270328T010000
END:DAYLIGHT
BEGIN:STANDARD
TZOFFSETFROM:+0100
TZOFFSETTO:+0000
TZNAME:GMT
DTSTART:20271031T010000
END:STANDARD
END:VTIMEZONE
BEGIN:VEVENT
DTSTART;TZID=Europe/London:20260424T193000
DTEND;TZID=Europe/London:20260424T213000
DTSTAMP:20260424T023353
CREATED:20260325T213540Z
LAST-MODIFIED:20260325T213649Z
UID:7083-1777059000-1777066200@lancastertennis.co.uk
SUMMARY:Fun Team Quiz
DESCRIPTION:Lancaster Cricket and Sports Club is organising a fun team quiz night at 7.30pm on Friday April 24th – only £1  to enter and lots of great prizes to  be won. \nDo go along  and form teams to support the Club and enjoy a great night of quizzing!
URL:https://lancastertennis.co.uk/event/fun-team-quiz/
LOCATION:Lancaster Cricket and Sports Club\, Lune Road\, Lancaster\, Lancashire\, LA1 5QU\, United Kingdom
ATTACH;FMTTYPE=image/jpeg:https://lancastertennis.co.uk/wp-content/uploads/2026/03/Quiz-April-2026.jpg
END:VEVENT
END:VCALENDAR